BEGIN:VCALENDAR
PRODID:Partyamt DarmstadtVERSION:2.0
X-WR-CALNAME:Partyamt DarmstadtUID:178538@partyamt.deX-WR-TIMEZONE:Europe/Berlin
CALSCALE:GREGORIAN
METHOD:PUBLISH
BEGIN:VEVENT
SUMMARY:Ein Konzert im Advent
DTSTART:20241201T170000
DTEND;VALUE=DATE:20241201T190000
LOCATION:St. Elisabeth Schlossgartenplatz
DESCRIPTION:www.partyamt.de/index.php?action=single&id=178538
END:VEVENT
END:VCALENDAR