BEGIN:VCALENDAR
PRODID:Partyamt DarmstadtVERSION:2.0
X-WR-CALNAME:Partyamt DarmstadtUID:178595@partyamt.deX-WR-TIMEZONE:Europe/Berlin
CALSCALE:GREGORIAN
METHOD:PUBLISH
BEGIN:VEVENT
SUMMARY:Theater: Es lebe die Freiheit!
DTSTART:20241201T180000
DTEND;VALUE=DATE:20241201T200000
LOCATION:Altes HauptgebÃ¤ude der TUD
DESCRIPTION:www.partyamt.de/index.php?action=single&id=178595
END:VEVENT
END:VCALENDAR