BEGIN:VCALENDAR
PRODID:Partyamt DarmstadtVERSION:2.0
X-WR-CALNAME:Partyamt DarmstadtUID:178628@partyamt.deX-WR-TIMEZONE:Europe/Berlin
CALSCALE:GREGORIAN
METHOD:PUBLISH
BEGIN:VEVENT
SUMMARY:Theater: Der Untergang des Hauses Usher
DTSTART:20241121T200000
DTEND;VALUE=DATE:20241121T220000
LOCATION:Theater Moller Haus
DESCRIPTION:www.partyamt.de/index.php?action=single&id=178628
END:VEVENT
END:VCALENDAR