BEGIN:VCALENDAR
PRODID:Partyamt DarmstadtVERSION:2.0
X-WR-CALNAME:Partyamt DarmstadtUID:178666@partyamt.deX-WR-TIMEZONE:Europe/Berlin
CALSCALE:GREGORIAN
METHOD:PUBLISH
BEGIN:VEVENT
SUMMARY:Konzert: Gosse + Globuli + Fyus
DTSTART:20241201T153000
DTEND;VALUE=DATE:20241201T173000
LOCATION:Oetinger Villa
DESCRIPTION:www.partyamt.de/index.php?action=single&id=178666
END:VEVENT
END:VCALENDAR