BEGIN:VCALENDAR
PRODID:Partyamt DarmstadtVERSION:2.0
X-WR-CALNAME:Partyamt DarmstadtUID:178695@partyamt.deX-WR-TIMEZONE:Europe/Berlin
CALSCALE:GREGORIAN
METHOD:PUBLISH
BEGIN:VEVENT
SUMMARY:Vortrag: Zukunftssichere Wärme für Wixhausen
DTSTART:20241118T180000
DTEND;VALUE=DATE:20241118T200000
LOCATION:BÃ¼rgermeister-Pohl-Haus
DESCRIPTION:www.partyamt.de/index.php?action=single&id=178695
END:VEVENT
END:VCALENDAR