BEGIN:VCALENDAR
PRODID:Partyamt DarmstadtVERSION:2.0
X-WR-CALNAME:Partyamt DarmstadtUID:178913@partyamt.deX-WR-TIMEZONE:Europe/Berlin
CALSCALE:GREGORIAN
METHOD:PUBLISH
BEGIN:VEVENT
SUMMARY:Tango Domingo
DTSTART:20241201T150000
DTEND;VALUE=DATE:20241201T170000
LOCATION:Linie Neun, Griesheim
DESCRIPTION:www.partyamt.de/index.php?action=single&id=178913
END:VEVENT
END:VCALENDAR