BEGIN:VCALENDAR
PRODID:Partyamt DarmstadtVERSION:2.0
X-WR-CALNAME:Partyamt DarmstadtUID:178952@partyamt.deX-WR-TIMEZONE:Europe/Berlin
CALSCALE:GREGORIAN
METHOD:PUBLISH
BEGIN:VEVENT
SUMMARY:Hofbasar
DTSTART:20241201T130000
DTEND;VALUE=DATE:20241201T150000
LOCATION:Shinson-Hapkido, LiebigstraÃe 27
DESCRIPTION:www.partyamt.de/index.php?action=single&id=178952
END:VEVENT
END:VCALENDAR