BEGIN:VCALENDAR
PRODID:Partyamt DarmstadtVERSION:2.0
X-WR-CALNAME:Partyamt DarmstadtUID:178968@partyamt.deX-WR-TIMEZONE:Europe/Berlin
CALSCALE:GREGORIAN
METHOD:PUBLISH
BEGIN:VEVENT
SUMMARY:Arheilger Weihnachtsmarkt
DTSTART:20241201T130000
DTEND;VALUE=DATE:20241201T150000
LOCATION:Zum Goldnen LÃ¶wen
DESCRIPTION:www.partyamt.de/index.php?action=single&id=178968
END:VEVENT
END:VCALENDAR