BEGIN:VCALENDAR
PRODID:Partyamt DarmstadtVERSION:2.0
X-WR-CALNAME:Partyamt DarmstadtUID:180252@partyamt.deX-WR-TIMEZONE:Europe/Berlin
CALSCALE:GREGORIAN
METHOD:PUBLISH
BEGIN:VEVENT
SUMMARY:Comedy: Herr Schröder - Der Rest ist Hausaufgabe
DTSTART:20250223T193000
DTEND;VALUE=DATE:20250223T213000
LOCATION:HalbNeun Theater
DESCRIPTION:www.partyamt.de/index.php?action=single&id=180252
END:VEVENT
END:VCALENDAR