BEGIN:VCALENDAR
PRODID:Partyamt DarmstadtVERSION:2.0
X-WR-CALNAME:Partyamt DarmstadtUID:180538@partyamt.deX-WR-TIMEZONE:Europe/Berlin
CALSCALE:GREGORIAN
METHOD:PUBLISH
BEGIN:VEVENT
SUMMARY:Frost Love Café
DTSTART:20250223T120000
DTEND;VALUE=DATE:20250223T140000
LOCATION:Jugendhof Bessunger Forst
DESCRIPTION:www.partyamt.de/index.php?action=single&id=180538
END:VEVENT
END:VCALENDAR