BEGIN:VCALENDAR
PRODID:Partyamt DarmstadtVERSION:2.0
X-WR-CALNAME:Partyamt DarmstadtUID:180798@partyamt.deX-WR-TIMEZONE:Europe/Berlin
CALSCALE:GREGORIAN
METHOD:PUBLISH
BEGIN:VEVENT
SUMMARY:Konzert: Milvus (Songwriter)
DTSTART:20250305T210000
DTEND;VALUE=DATE:20250305T230000
LOCATION:Goldene Krone (Kneipe)
DESCRIPTION:www.partyamt.de/index.php?action=single&id=180798
END:VEVENT
END:VCALENDAR