BEGIN:VCALENDAR
PRODID:Partyamt DarmstadtVERSION:2.0
X-WR-CALNAME:Partyamt DarmstadtUID:185843@partyamt.deX-WR-TIMEZONE:Europe/Berlin
CALSCALE:GREGORIAN
METHOD:PUBLISH
BEGIN:VEVENT
SUMMARY:Lesung: Elizabeth Horn - Neues Glück im ...
DTSTART:20250522T190000
DTEND;VALUE=DATE:20250522T210000
LOCATION:Buchhandlung Schlapp, Eberstadt
DESCRIPTION:www.partyamt.de/index.php?action=single&id=185843
END:VEVENT
END:VCALENDAR