BEGIN:VCALENDAR
PRODID:Partyamt DarmstadtVERSION:2.0
X-WR-CALNAME:Partyamt DarmstadtUID:186184@partyamt.deX-WR-TIMEZONE:Europe/Berlin
CALSCALE:GREGORIAN
METHOD:PUBLISH
BEGIN:VEVENT
SUMMARY:Mallorca Party
DTSTART:20250705T220000
DTEND;VALUE=DATE:20250706T000000
LOCATION:Goldene Krone (Disco)
DESCRIPTION:www.partyamt.de/index.php?action=single&id=186184
END:VEVENT
END:VCALENDAR