BEGIN:VCALENDAR
PRODID:Partyamt DarmstadtVERSION:2.0
X-WR-CALNAME:Partyamt DarmstadtUID:186602@partyamt.deX-WR-TIMEZONE:Europe/Berlin
CALSCALE:GREGORIAN
METHOD:PUBLISH
BEGIN:VEVENT
SUMMARY:Heiner Wiesn 2025 - Bavarian Bash 
DTSTART:20251101T180000
DTEND;VALUE=DATE:20251101T200000
LOCATION:Messplatz (Eventzelt)
DESCRIPTION:www.partyamt.de/index.php?action=single&id=186602
END:VEVENT
END:VCALENDAR