BEGIN:VCALENDAR
PRODID:Partyamt DarmstadtVERSION:2.0
X-WR-CALNAME:Partyamt DarmstadtUID:187727@partyamt.deX-WR-TIMEZONE:Europe/Berlin
CALSCALE:GREGORIAN
METHOD:PUBLISH
BEGIN:VEVENT
SUMMARY:Theater: Willkommen im Jenseits
DTSTART:20251101T200000
DTEND;VALUE=DATE:20251101T220000
LOCATION:Circus Waldoni
DESCRIPTION:www.partyamt.de/index.php?action=single&id=187727
END:VEVENT
END:VCALENDAR