BEGIN:VCALENDAR
PRODID:Partyamt DarmstadtVERSION:2.0
X-WR-CALNAME:Partyamt DarmstadtUID:187729@partyamt.deX-WR-TIMEZONE:Europe/Berlin
CALSCALE:GREGORIAN
METHOD:PUBLISH
BEGIN:VEVENT
SUMMARY:Theater: Darmstädter Stadtgeschichten
DTSTART:20251101T160000
DTEND;VALUE=DATE:20251101T180000
LOCATION:Circus Waldoni
DESCRIPTION:www.partyamt.de/index.php?action=single&id=187729
END:VEVENT
END:VCALENDAR