BEGIN:VCALENDAR
PRODID:Partyamt DarmstadtVERSION:2.0
X-WR-CALNAME:Partyamt DarmstadtUID:187731@partyamt.deX-WR-TIMEZONE:Europe/Berlin
CALSCALE:GREGORIAN
METHOD:PUBLISH
BEGIN:VEVENT
SUMMARY:Theater: Die zertanzten Schuhe (Premiere)
DTSTART:20251101T140000
DTEND;VALUE=DATE:20251101T160000
LOCATION:Circus Waldoni
DESCRIPTION:www.partyamt.de/index.php?action=single&id=187731
END:VEVENT
END:VCALENDAR