BEGIN:VCALENDAR
PRODID:Partyamt DarmstadtVERSION:2.0
X-WR-CALNAME:Partyamt DarmstadtUID:187907@partyamt.deX-WR-TIMEZONE:Europe/Berlin
CALSCALE:GREGORIAN
METHOD:PUBLISH
BEGIN:VEVENT
SUMMARY:Verleihung der Akademie-Preise
DTSTART:20251101T160000
DTEND;VALUE=DATE:20251101T180000
LOCATION:Staatstheater
DESCRIPTION:www.partyamt.de/index.php?action=single&id=187907
END:VEVENT
END:VCALENDAR