BEGIN:VCALENDAR
PRODID:Partyamt DarmstadtVERSION:2.0
X-WR-CALNAME:Partyamt DarmstadtUID:187956@partyamt.deX-WR-TIMEZONE:Europe/Berlin
CALSCALE:GREGORIAN
METHOD:PUBLISH
BEGIN:VEVENT
SUMMARY:Metal Breakdown
DTSTART:20251101T220000
DTEND;VALUE=DATE:20251102T000000
LOCATION:Steinbruch-Theater, MÃ¼hltal
DESCRIPTION:www.partyamt.de/index.php?action=single&id=187956
END:VEVENT
END:VCALENDAR