BEGIN:VCALENDAR
PRODID:Partyamt DarmstadtVERSION:2.0
X-WR-CALNAME:Partyamt DarmstadtUID:188077@partyamt.deX-WR-TIMEZONE:Europe/Berlin
CALSCALE:GREGORIAN
METHOD:PUBLISH
BEGIN:VEVENT
SUMMARY:Halloween Party
DTSTART:20251101T220000
DTEND;VALUE=DATE:20251102T000000
LOCATION:Das Labor
DESCRIPTION:www.partyamt.de/index.php?action=single&id=188077
END:VEVENT
END:VCALENDAR