BEGIN:VCALENDAR
PRODID:Partyamt DarmstadtVERSION:2.0
X-WR-CALNAME:Partyamt DarmstadtUID:188217@partyamt.deX-WR-TIMEZONE:Europe/Berlin
CALSCALE:GREGORIAN
METHOD:PUBLISH
BEGIN:VEVENT
SUMMARY:Lesung: Tamara Krappmann - Lemuren
DTSTART:20251118T190000
DTEND;VALUE=DATE:20251118T210000
LOCATION:Hotel Rosengarten Darmstadt
DESCRIPTION:www.partyamt.de/index.php?action=single&id=188217
END:VEVENT
END:VCALENDAR