BEGIN:VCALENDAR
PRODID:Partyamt DarmstadtVERSION:2.0
X-WR-CALNAME:Partyamt DarmstadtUID:188229@partyamt.deX-WR-TIMEZONE:Europe/Berlin
CALSCALE:GREGORIAN
METHOD:PUBLISH
BEGIN:VEVENT
SUMMARY:Flohmarkt Rund ums Kind
DTSTART:20251101T090000
DTEND;VALUE=DATE:20251101T110000
LOCATION:Ev. Christuskirche Eberstadt
DESCRIPTION:www.partyamt.de/index.php?action=single&id=188229
END:VEVENT
END:VCALENDAR