BEGIN:VCALENDAR
PRODID:Partyamt DarmstadtVERSION:2.0
X-WR-CALNAME:Partyamt DarmstadtUID:188236@partyamt.deX-WR-TIMEZONE:Europe/Berlin
CALSCALE:GREGORIAN
METHOD:PUBLISH
BEGIN:VEVENT
SUMMARY:Lesung: W. Christian Schmitt - Heimkehr nach ...
DTSTART:20251120T193000
DTEND;VALUE=DATE:20251120T213000
LOCATION:KÃ¼nstlerkeller im Schloss
DESCRIPTION:www.partyamt.de/index.php?action=single&id=188236
END:VEVENT
END:VCALENDAR