BEGIN:VCALENDAR
PRODID:Partyamt DarmstadtVERSION:2.0
X-WR-CALNAME:Partyamt DarmstadtUID:188266@partyamt.deX-WR-TIMEZONE:Europe/Berlin
CALSCALE:GREGORIAN
METHOD:PUBLISH
BEGIN:VEVENT
SUMMARY:Party ohne Grenzen - Halloween Edition
DTSTART:20251101T220000
DTEND;VALUE=DATE:20251102T000000
LOCATION:Schlosskeller
DESCRIPTION:www.partyamt.de/index.php?action=single&id=188266
END:VEVENT
END:VCALENDAR