BEGIN:VCALENDAR
PRODID:Partyamt DarmstadtVERSION:2.0
X-WR-CALNAME:Partyamt DarmstadtUID:188270@partyamt.deX-WR-TIMEZONE:Europe/Berlin
CALSCALE:GREGORIAN
METHOD:PUBLISH
BEGIN:VEVENT
SUMMARY:Vortrag: Wie umgehen mit Verschwörungstheorien?
DTSTART:20251118T163000
DTEND;VALUE=DATE:20251118T183000
LOCATION:Agaplesion Heimathaus
DESCRIPTION:www.partyamt.de/index.php?action=single&id=188270
END:VEVENT
END:VCALENDAR