BEGIN:VCALENDAR
PRODID:Partyamt DarmstadtVERSION:2.0
X-WR-CALNAME:Partyamt DarmstadtUID:188285@partyamt.deX-WR-TIMEZONE:Europe/Berlin
CALSCALE:GREGORIAN
METHOD:PUBLISH
BEGIN:VEVENT
SUMMARY:Filmkreis-Kino: Der große Diktator (OmeU)
DTSTART:20251118T200000
DTEND;VALUE=DATE:20251118T220000
LOCATION:Audimax / TUD
DESCRIPTION:www.partyamt.de/index.php?action=single&id=188285
END:VEVENT
END:VCALENDAR