BEGIN:VCALENDAR
PRODID:Partyamt DarmstadtVERSION:2.0
X-WR-CALNAME:Partyamt DarmstadtUID:188349@partyamt.deX-WR-TIMEZONE:Europe/Berlin
CALSCALE:GREGORIAN
METHOD:PUBLISH
BEGIN:VEVENT
SUMMARY:Skaya & Jam - Reggae & Hip-Hop + Jam Session
DTSTART:20251101T180000
DTEND;VALUE=DATE:20251101T200000
LOCATION:ehem. McDonalds am Ludwigsplatz
DESCRIPTION:www.partyamt.de/index.php?action=single&id=188349
END:VEVENT
END:VCALENDAR