BEGIN:VCALENDAR
PRODID:Partyamt DarmstadtVERSION:2.0
X-WR-CALNAME:Partyamt DarmstadtUID:188354@partyamt.deX-WR-TIMEZONE:Europe/Berlin
CALSCALE:GREGORIAN
METHOD:PUBLISH
BEGIN:VEVENT
SUMMARY:Stadt gestalten als Verein - Gemeinsame Visionen
DTSTART:20251106T190000
DTEND;VALUE=DATE:20251106T210000
LOCATION:ehem. McDonalds am Ludwigsplatz
DESCRIPTION:www.partyamt.de/index.php?action=single&id=188354
END:VEVENT
END:VCALENDAR