BEGIN:VCALENDAR
PRODID:Partyamt DarmstadtVERSION:2.0
X-WR-CALNAME:Partyamt DarmstadtUID:188359@partyamt.deX-WR-TIMEZONE:Europe/Berlin
CALSCALE:GREGORIAN
METHOD:PUBLISH
BEGIN:VEVENT
SUMMARY:Dia de los Muertos 
DTSTART:20251101T170000
DTEND;VALUE=DATE:20251101T190000
LOCATION:Kulturwiese am Ida-Seele-Weg
DESCRIPTION:www.partyamt.de/index.php?action=single&id=188359
END:VEVENT
END:VCALENDAR