BEGIN:VCALENDAR
PRODID:Partyamt DarmstadtVERSION:2.0
X-WR-CALNAME:Partyamt DarmstadtUID:188409@partyamt.deX-WR-TIMEZONE:Europe/Berlin
CALSCALE:GREGORIAN
METHOD:PUBLISH
BEGIN:VEVENT
SUMMARY:Konzert: Die Original Schiffschaukelbremser (Ossb)
DTSTART:20251120T200000
DTEND;VALUE=DATE:20251120T220000
LOCATION:Hoffart Theater
DESCRIPTION:www.partyamt.de/index.php?action=single&id=188409
END:VEVENT
END:VCALENDAR