BEGIN:VCALENDAR
PRODID:Partyamt DarmstadtVERSION:2.0
X-WR-CALNAME:Partyamt DarmstadtUID:188413@partyamt.deX-WR-TIMEZONE:Europe/Berlin
CALSCALE:GREGORIAN
METHOD:PUBLISH
BEGIN:VEVENT
SUMMARY:Konzert: Brandy Beatles Complete - In my life
DTSTART:20251101T203000
DTEND;VALUE=DATE:20251101T223000
LOCATION:HalbNeun Theater
DESCRIPTION:www.partyamt.de/index.php?action=single&id=188413
END:VEVENT
END:VCALENDAR