BEGIN:VCALENDAR
PRODID:Partyamt DarmstadtVERSION:2.0
X-WR-CALNAME:Partyamt DarmstadtUID:188466@partyamt.deX-WR-TIMEZONE:Europe/Berlin
CALSCALE:GREGORIAN
METHOD:PUBLISH
BEGIN:VEVENT
SUMMARY:Vortrag: Erfahrungen im Einsatz von ...
DTSTART:20251118T183000
DTEND;VALUE=DATE:20251118T203000
LOCATION:Offenes Haus / Evangelische Stadtakademie
DESCRIPTION:www.partyamt.de/index.php?action=single&id=188466
END:VEVENT
END:VCALENDAR