BEGIN:VCALENDAR
PRODID:Partyamt DarmstadtVERSION:2.0
X-WR-CALNAME:Partyamt DarmstadtUID:188483@partyamt.deX-WR-TIMEZONE:Europe/Berlin
CALSCALE:GREGORIAN
METHOD:PUBLISH
BEGIN:VEVENT
SUMMARY:Vortrag: Wilhelm Leuschner und seine Weggefährten
DTSTART:20251118T190000
DTEND;VALUE=DATE:20251118T210000
LOCATION:DGB-Haus Friedberger Str.25
DESCRIPTION:www.partyamt.de/index.php?action=single&id=188483
END:VEVENT
END:VCALENDAR