BEGIN:VCALENDAR
PRODID:Partyamt DarmstadtVERSION:2.0
X-WR-CALNAME:Partyamt DarmstadtUID:188485@partyamt.deX-WR-TIMEZONE:Europe/Berlin
CALSCALE:GREGORIAN
METHOD:PUBLISH
BEGIN:VEVENT
SUMMARY:Club Sounds Halloween
DTSTART:20251101T223000
DTEND;VALUE=DATE:20251102T003000
LOCATION:Centralstation (Halle)
DESCRIPTION:www.partyamt.de/index.php?action=single&id=188485
END:VEVENT
END:VCALENDAR