BEGIN:VCALENDAR
PRODID:Partyamt DarmstadtVERSION:2.0
X-WR-CALNAME:Partyamt DarmstadtUID:188491@partyamt.deX-WR-TIMEZONE:Europe/Berlin
CALSCALE:GREGORIAN
METHOD:PUBLISH
BEGIN:VEVENT
SUMMARY:In der Bar mit Unicorn Crew
DTSTART:20251120T210000
DTEND;VALUE=DATE:20251120T230000
LOCATION:Centralstation (Bar)
DESCRIPTION:www.partyamt.de/index.php?action=single&id=188491
END:VEVENT
END:VCALENDAR