BEGIN:VCALENDAR
PRODID:Partyamt DarmstadtVERSION:2.0
X-WR-CALNAME:Partyamt DarmstadtUID:188496@partyamt.deX-WR-TIMEZONE:Europe/Berlin
CALSCALE:GREGORIAN
METHOD:PUBLISH
BEGIN:VEVENT
SUMMARY:Konzert: Niklas Paschburg
DTSTART:20251120T200000
DTEND;VALUE=DATE:20251120T220000
LOCATION:Centralstation (Saal)
DESCRIPTION:www.partyamt.de/index.php?action=single&id=188496
END:VEVENT
END:VCALENDAR