BEGIN:VCALENDAR
PRODID:Partyamt DarmstadtVERSION:2.0
X-WR-CALNAME:Partyamt DarmstadtUID:188514@partyamt.deX-WR-TIMEZONE:Europe/Berlin
CALSCALE:GREGORIAN
METHOD:PUBLISH
BEGIN:VEVENT
SUMMARY:Titanic Boygroup
DTSTART:20251118T200000
DTEND;VALUE=DATE:20251118T220000
LOCATION:Centralstation (Saal)
DESCRIPTION:www.partyamt.de/index.php?action=single&id=188514
END:VEVENT
END:VCALENDAR