BEGIN:VCALENDAR
PRODID:Partyamt DarmstadtVERSION:2.0
X-WR-CALNAME:Partyamt DarmstadtUID:188550@partyamt.deX-WR-TIMEZONE:Europe/Berlin
CALSCALE:GREGORIAN
METHOD:PUBLISH
BEGIN:VEVENT
SUMMARY:Live-Karaoke
DTSTART:20251106T210000
DTEND;VALUE=DATE:20251106T230000
LOCATION:Goldene Krone (Kneipe)
DESCRIPTION:www.partyamt.de/index.php?action=single&id=188550
END:VEVENT
END:VCALENDAR