BEGIN:VCALENDAR
PRODID:Partyamt DarmstadtVERSION:2.0
X-WR-CALNAME:Partyamt DarmstadtUID:188716@partyamt.deX-WR-TIMEZONE:Europe/Berlin
CALSCALE:GREGORIAN
METHOD:PUBLISH
BEGIN:VEVENT
SUMMARY:Eröffnungsveranstaltung  Ich wusste was ich tat 
DTSTART:20251106T180000
DTEND;VALUE=DATE:20251106T200000
LOCATION:Gewerkschaftshaus
DESCRIPTION:www.partyamt.de/index.php?action=single&id=188716
END:VEVENT
END:VCALENDAR