BEGIN:VCALENDAR
PRODID:Partyamt DarmstadtVERSION:2.0
X-WR-CALNAME:Partyamt DarmstadtUID:188718@partyamt.deX-WR-TIMEZONE:Europe/Berlin
CALSCALE:GREGORIAN
METHOD:PUBLISH
BEGIN:VEVENT
SUMMARY:Frauen und Männer der ersten Stunde
DTSTART:20251120T180000
DTEND;VALUE=DATE:20251120T200000
LOCATION:Gewerkschaftshaus
DESCRIPTION:www.partyamt.de/index.php?action=single&id=188718
END:VEVENT
END:VCALENDAR