BEGIN:VCALENDAR
PRODID:Partyamt DarmstadtVERSION:2.0
X-WR-CALNAME:Partyamt DarmstadtUID:188766@partyamt.deX-WR-TIMEZONE:Europe/Berlin
CALSCALE:GREGORIAN
METHOD:PUBLISH
BEGIN:VEVENT
SUMMARY:Ausstellungseröffnung: 7 auf 1 Streich (Malerei)
DTSTART;VALUE=DATE:20251201
DTEND;VALUE=DATE:20251201T020000
LOCATION:Atelier Bildwechsel
DESCRIPTION:www.partyamt.de/index.php?action=single&id=188766
END:VEVENT
END:VCALENDAR