BEGIN:VCALENDAR
PRODID:Partyamt DarmstadtVERSION:2.0
X-WR-CALNAME:Partyamt DarmstadtUID:188976@partyamt.deX-WR-TIMEZONE:Europe/Berlin
CALSCALE:GREGORIAN
METHOD:PUBLISH
BEGIN:VEVENT
SUMMARY:Worst Superhero - Ausstellung zum Film
DTSTART;VALUE=DATE:20251120
DTEND;VALUE=DATE:20251120T020000
LOCATION:Atelierhaus
DESCRIPTION:www.partyamt.de/index.php?action=single&id=188976
END:VEVENT
END:VCALENDAR