BEGIN:VCALENDAR
PRODID:Partyamt DarmstadtVERSION:2.0
X-WR-CALNAME:Partyamt DarmstadtUID:189063@partyamt.deX-WR-TIMEZONE:Europe/Berlin
CALSCALE:GREGORIAN
METHOD:PUBLISH
BEGIN:VEVENT
SUMMARY:Ausstellung: No Way Like Home - Fotografien aus...
DTSTART:20251120T173000
DTEND;VALUE=DATE:20251120T193000
LOCATION:Kunsthalle
DESCRIPTION:www.partyamt.de/index.php?action=single&id=189063
END:VEVENT
END:VCALENDAR