BEGIN:VCALENDAR
PRODID:Partyamt DarmstadtVERSION:2.0
X-WR-CALNAME:Partyamt DarmstadtUID:189085@partyamt.deX-WR-TIMEZONE:Europe/Berlin
CALSCALE:GREGORIAN
METHOD:PUBLISH
BEGIN:VEVENT
SUMMARY:Pub Quiz
DTSTART:20251201T190000
DTEND;VALUE=DATE:20251201T210000
LOCATION:Bruchbude
DESCRIPTION:www.partyamt.de/index.php?action=single&id=189085
END:VEVENT
END:VCALENDAR