BEGIN:VCALENDAR
PRODID:Partyamt DarmstadtVERSION:2.0
X-WR-CALNAME:Partyamt DarmstadtUID:189105@partyamt.deX-WR-TIMEZONE:Europe/Berlin
CALSCALE:GREGORIAN
METHOD:PUBLISH
BEGIN:VEVENT
SUMMARY:Ecstatic Dance Jubilee
DTSTART:20251206T183000
DTEND;VALUE=DATE:20251206T203000
LOCATION:Latin Club, Dornheimer Weg 79
DESCRIPTION:www.partyamt.de/index.php?action=single&id=189105
END:VEVENT
END:VCALENDAR