BEGIN:VCALENDAR
PRODID:Partyamt DarmstadtVERSION:2.0
X-WR-CALNAME:Partyamt DarmstadtUID:189248@partyamt.deX-WR-TIMEZONE:Europe/Berlin
CALSCALE:GREGORIAN
METHOD:PUBLISH
BEGIN:VEVENT
SUMMARY:Riwwelkuchesitzung
DTSTART:20260201T133100
DTEND;VALUE=DATE:20260201T153100
LOCATION:Justus-Liebig-Haus
DESCRIPTION:www.partyamt.de/index.php?action=single&id=189248
END:VEVENT
END:VCALENDAR