BEGIN:VCALENDAR
PRODID:Partyamt DarmstadtVERSION:2.0
X-WR-CALNAME:Partyamt DarmstadtUID:189267@partyamt.deX-WR-TIMEZONE:Europe/Berlin
CALSCALE:GREGORIAN
METHOD:PUBLISH
BEGIN:VEVENT
SUMMARY:Ausstellungseröffnung - Renate Kletzka
DTSTART:20260201T113000
DTEND;VALUE=DATE:20260201T133000
LOCATION:KÃ¼nstlerhaus ZiegelhÃ¼tte
DESCRIPTION:www.partyamt.de/index.php?action=single&id=189267
END:VEVENT
END:VCALENDAR