BEGIN:VCALENDAR
PRODID:Partyamt DarmstadtVERSION:2.0
X-WR-CALNAME:Partyamt DarmstadtUID:189287@partyamt.deX-WR-TIMEZONE:Europe/Berlin
CALSCALE:GREGORIAN
METHOD:PUBLISH
BEGIN:VEVENT
SUMMARY:Büchner - Sixty Nine 
DTSTART:20260211T190000
DTEND;VALUE=DATE:20260211T210000
LOCATION:Muckerhaus Messeler Str. 112a DA
DESCRIPTION:www.partyamt.de/index.php?action=single&id=189287
END:VEVENT
END:VCALENDAR