BEGIN:VCALENDAR
PRODID:Partyamt DarmstadtVERSION:2.0
X-WR-CALNAME:Partyamt DarmstadtUID:189339@partyamt.deX-WR-TIMEZONE:Europe/Berlin
CALSCALE:GREGORIAN
METHOD:PUBLISH
BEGIN:VEVENT
SUMMARY:Generationenvertrag neu ordnen: Wer braucht wen?
DTSTART:20260203T183000
DTEND;VALUE=DATE:20260203T203000
LOCATION:Offenes Haus / Evangelische Stadtakademie
DESCRIPTION:www.partyamt.de/index.php?action=single&id=189339
END:VEVENT
END:VCALENDAR