BEGIN:VCALENDAR
PRODID:Partyamt DarmstadtVERSION:2.0
X-WR-CALNAME:Partyamt DarmstadtUID:189518@partyamt.deX-WR-TIMEZONE:Europe/Berlin
CALSCALE:GREGORIAN
METHOD:PUBLISH
BEGIN:VEVENT
SUMMARY:Saatgut TauschRausch #10
DTSTART:20260201T120000
DTEND;VALUE=DATE:20260201T140000
LOCATION:Klause
DESCRIPTION:www.partyamt.de/index.php?action=single&id=189518
END:VEVENT
END:VCALENDAR